BEGIN:VCALENDAR
VERSION:2.0
PRODID:-//Plone.org//NONSGML plone.app.event//EN
X-WR-TIMEZONE:Europe/Rome
BEGIN:VEVENT
SUMMARY:"Fumetto ed educazione linguistica" - Lezioni di Daniela Pietrini
DTSTART;VALUE=DATE:20170309
DTEND;VALUE=DATE:20170311
DTSTAMP;VALUE=DATE-TIME:20260422T203039Z
UID:0a4110cab2ab498ba479b322fc7abfc5@ficlit.unibo.it
CREATED;VALUE=DATE-TIME:20170302T234030Z
LAST-MODIFIED;VALUE=DATE-TIME:20170309T173536Z
URL:https://ficlit.unibo.it/it/eventi/fumetto-ed-educazione-linguistica
END:VEVENT
END:VCALENDAR
