BEGIN:VCALENDAR
VERSION:2.0
PRODID:-//Plone.org//NONSGML plone.app.event//EN
X-WR-TIMEZONE:Europe/Rome
BEGIN:VEVENT
SUMMARY:Gender Food. Cibo\, corpi e identità
DTSTART;VALUE=DATE:20250528
DTEND;VALUE=DATE:20250529
DTSTAMP;VALUE=DATE-TIME:20260424T062708Z
UID:794a802edebc48aa8cd8f73c093f5c17@ficlit.unibo.it
CREATED;VALUE=DATE-TIME:20250516T085322Z
DESCRIPTION:La Cultura della Cura - aprile-maggio 2025. Iniziative del Cen
 tro Studi Medical Humanities in collaborazione con La Società Medica Chir
 urgica di Bologna e la Fondazione Cassa di Risparmio in Bologna
LAST-MODIFIED;VALUE=DATE-TIME:20250516T090659Z
URL:https://ficlit.unibo.it/it/eventi/gender-food-cibo-corpi-e-identita
END:VEVENT
END:VCALENDAR
