BEGIN:VCALENDAR
VERSION:2.0
PRODID:-//Plone.org//NONSGML plone.app.event//EN
X-WR-TIMEZONE:Europe/Rome
BEGIN:VEVENT
SUMMARY:Gian Carlo FERRETTI (Roma3\, Università degli studi) - Il marchio
  dell’editore
DTSTART;TZID=Europe/Rome;VALUE=DATE-TIME:20191114T150000
DTEND;TZID=Europe/Rome;VALUE=DATE-TIME:20191114T170000
DTSTAMP;VALUE=DATE-TIME:20260419T171036Z
UID:fe7632e676424c568e90b68b9eecaf59@ficlit.unibo.it
CREATED;VALUE=DATE-TIME:20191112T090747Z
DESCRIPTION:Minuzie editoriali - Lezioni sul libro del Novecento in Italia
  - II ciclo di incontri - 2019-20
LAST-MODIFIED;VALUE=DATE-TIME:20200122T155341Z
URL:https://ficlit.unibo.it/it/eventi/gian-carlo-ferretti-marchio-editore
END:VEVENT
BEGIN:VTIMEZONE
TZID:Europe/Rome
X-LIC-LOCATION:Europe/Rome
BEGIN:STANDARD
DTSTART;VALUE=DATE-TIME:20191027T020000
TZNAME:CET
TZOFFSETFROM:+0200
TZOFFSETTO:+0100
END:STANDARD
END:VTIMEZONE
END:VCALENDAR
