BEGIN:VCALENDAR
VERSION:2.0
PRODID:-//Plone.org//NONSGML plone.app.event//EN
X-WR-TIMEZONE:Europe/Rome
BEGIN:VEVENT
SUMMARY:Gianfranco CRUPI (Sapienza Università di Roma) - Dai libri animat
 i ai testi senza fine
DTSTART;TZID=Europe/Rome;VALUE=DATE-TIME:20191121T150000
DTEND;TZID=Europe/Rome;VALUE=DATE-TIME:20191121T170000
DTSTAMP;VALUE=DATE-TIME:20260419T195651Z
UID:1762bbb1cc53487db4d4fc9003a9b0af@ficlit.unibo.it
CREATED;VALUE=DATE-TIME:20200122T154645Z
DESCRIPTION:Minuzie editoriali - Lezioni sul libro del Novecento in Italia
  - II ciclo di incontri - 2019-20
LAST-MODIFIED;VALUE=DATE-TIME:20200122T155252Z
URL:https://ficlit.unibo.it/it/eventi/gianfranco-crupi-libri-animati-testi
 -senza-fine
END:VEVENT
BEGIN:VTIMEZONE
TZID:Europe/Rome
X-LIC-LOCATION:Europe/Rome
BEGIN:STANDARD
DTSTART;VALUE=DATE-TIME:20191027T020000
TZNAME:CET
TZOFFSETFROM:+0200
TZOFFSETTO:+0100
END:STANDARD
END:VTIMEZONE
END:VCALENDAR
