BEGIN:VCALENDAR
VERSION:2.0
PRODID:-//Plone.org//NONSGML plone.app.event//EN
X-WR-TIMEZONE:Europe/Rome
BEGIN:VEVENT
SUMMARY:Gianni Rodari: scritture\, giochi\, figure
DTSTART;TZID=Europe/Rome;VALUE=DATE-TIME:20201201T153000
DTEND;TZID=Europe/Rome;VALUE=DATE-TIME:20201201T190000
DTSTAMP;VALUE=DATE-TIME:20260424T194435Z
UID:d238f05d95044048b11684d1265c2d45@ficlit.unibo.it
CREATED;VALUE=DATE-TIME:20201123T094531Z
DESCRIPTION:Un pomeriggio di “tributo” a Gianni Rodari per festeggiarn
 e i 100 anni dalla nascita. Riflessioni\, dialoghi\, letture per indagare 
 il lascito della scrittura rodariana con studiosi e artisti.
LAST-MODIFIED;VALUE=DATE-TIME:20201123T095139Z
URL:https://ficlit.unibo.it/it/eventi/gianni-rodari-scritture-giochi-figur
 e
END:VEVENT
BEGIN:VTIMEZONE
TZID:Europe/Rome
X-LIC-LOCATION:Europe/Rome
BEGIN:STANDARD
DTSTART;VALUE=DATE-TIME:20201025T020000
TZNAME:CET
TZOFFSETFROM:+0200
TZOFFSETTO:+0100
END:STANDARD
END:VTIMEZONE
END:VCALENDAR
