BEGIN:VCALENDAR
VERSION:2.0
PRODID:-//Plone.org//NONSGML plone.app.event//EN
X-WR-TIMEZONE:Europe/Rome
BEGIN:VEVENT
SUMMARY:Lezione del Prof. Gianpiero Rosati (Pisa\, SNS)- Narciso e il narc
 isismo\, da Ovidio al postmoderno
DTSTART;TZID=Europe/Rome;VALUE=DATE-TIME:20200428T150000
DTEND;TZID=Europe/Rome;VALUE=DATE-TIME:20200428T170000
DTSTAMP;VALUE=DATE-TIME:20260419T191536Z
UID:46b86dce6af243d7aaf2d1b5263f6e74@ficlit.unibo.it
CREATED;VALUE=DATE-TIME:20200420T075859Z
DESCRIPTION:Lezione nell’ambito del corso di Tradizione e Permanenza dei
  Classici
LAST-MODIFIED;VALUE=DATE-TIME:20200420T080156Z
URL:https://ficlit.unibo.it/it/eventi/gianpiero-rosati-pisa-narciso-narcis
 ismo-ovidio-postmoderno
END:VEVENT
BEGIN:VTIMEZONE
TZID:Europe/Rome
X-LIC-LOCATION:Europe/Rome
BEGIN:DAYLIGHT
DTSTART;VALUE=DATE-TIME:20200329T030000
TZNAME:CEST
TZOFFSETFROM:+0100
TZOFFSETTO:+0200
END:DAYLIGHT
END:VTIMEZONE
END:VCALENDAR
