BEGIN:VCALENDAR
VERSION:2.0
PRODID:-//Plone.org//NONSGML plone.app.event//EN
X-WR-TIMEZONE:Europe/Rome
BEGIN:VEVENT
SUMMARY:Giorgio Cosmacini - L’eugenetica in età imperiale e le leggi r
 azziali
DTSTART;TZID=Europe/Rome;VALUE=DATE-TIME:20191109T110000
DTEND;TZID=Europe/Rome;VALUE=DATE-TIME:20191109T130000
DTSTAMP;VALUE=DATE-TIME:20260419T171558Z
UID:e069a7a3bfda4cac8799840c6a6704eb@ficlit.unibo.it
CREATED;VALUE=DATE-TIME:20191122T095313Z
LAST-MODIFIED;VALUE=DATE-TIME:20191122T095330Z
URL:https://ficlit.unibo.it/it/eventi/giorgio-cosmacini-l2019eugenetica-in
 -eta-imperiale-e-le-leggi-razziali
END:VEVENT
BEGIN:VTIMEZONE
TZID:Europe/Rome
X-LIC-LOCATION:Europe/Rome
BEGIN:STANDARD
DTSTART;VALUE=DATE-TIME:20191027T020000
TZNAME:CET
TZOFFSETFROM:+0200
TZOFFSETTO:+0100
END:STANDARD
END:VTIMEZONE
END:VCALENDAR
