BEGIN:VCALENDAR
VERSION:2.0
PRODID:-//Plone.org//NONSGML plone.app.event//EN
X-WR-TIMEZONE:Europe/Rome
BEGIN:VEVENT
SUMMARY:Giornata in ricordo di Francesco Bossi
DTSTART;TZID=Europe/Rome;VALUE=DATE-TIME:20241212T110000
DTEND;TZID=Europe/Rome;VALUE=DATE-TIME:20241212T183000
DTSTAMP;VALUE=DATE-TIME:20260420T100826Z
UID:53e5462ddeff4a9f9ec84eb9a7bf5329@ficlit.unibo.it
CREATED;VALUE=DATE-TIME:20241206T175438Z
DESCRIPTION:(Programma allegato)
LAST-MODIFIED;VALUE=DATE-TIME:20241206T185335Z
URL:https://ficlit.unibo.it/it/eventi/giornata-in-ricordo-di-francesco-bos
 si
END:VEVENT
BEGIN:VTIMEZONE
TZID:Europe/Rome
X-LIC-LOCATION:Europe/Rome
BEGIN:STANDARD
DTSTART;VALUE=DATE-TIME:20241027T020000
TZNAME:CET
TZOFFSETFROM:+0200
TZOFFSETTO:+0100
END:STANDARD
END:VTIMEZONE
END:VCALENDAR
