BEGIN:VCALENDAR
VERSION:2.0
PRODID:-//Plone.org//NONSGML plone.app.event//EN
X-WR-TIMEZONE:Europe/Rome
BEGIN:VEVENT
SUMMARY:Grammatica e antisemitismo. Per intendere Filone di Alessandria
DTSTART;VALUE=DATE:20250326
DTEND;VALUE=DATE:20250327
DTSTAMP;VALUE=DATE-TIME:20260420T045327Z
UID:6173446a6d494431907e6186ed669b61@ficlit.unibo.it
CREATED;VALUE=DATE-TIME:20250204T085733Z
DESCRIPTION:Seminario tenuto dal prof. Luciano Bossina (Università di Pad
 ova)
LAST-MODIFIED;VALUE=DATE-TIME:20250204T085933Z
URL:https://ficlit.unibo.it/it/eventi/grammatica-e-antisemitismo-per-inten
 dere-filone-di-alessandria
END:VEVENT
END:VCALENDAR
