BEGIN:VCALENDAR
VERSION:2.0
PRODID:-//Plone.org//NONSGML plone.app.event//EN
X-WR-TIMEZONE:Europe/Rome
BEGIN:VEVENT
SUMMARY:Ἐν Μούσῃσι ἔξοχος Greek Intellectual Women in He
 llenistic and Imperial Age
DTSTART;VALUE=DATE:20250612
DTEND;VALUE=DATE:20250614
DTSTAMP;VALUE=DATE-TIME:20260421T201203Z
UID:bbbd8482e18942a0aec2a973ef8cdd1c@ficlit.unibo.it
CREATED;VALUE=DATE-TIME:20250415T133033Z
DESCRIPTION:International Conference organizzata nell'ambito del progetto 
 PRIN 2022 “WInGS - Women Intellectuals in Greek Society”
LAST-MODIFIED;VALUE=DATE-TIME:20250506T080857Z
URL:https://ficlit.unibo.it/it/eventi/greek-intellectual-women-in-hellenis
 tic-and-imperial-age
END:VEVENT
END:VCALENDAR
