BEGIN:VCALENDAR
VERSION:2.0
PRODID:-//Plone.org//NONSGML plone.app.event//EN
X-WR-TIMEZONE:Europe/Rome
BEGIN:VEVENT
SUMMARY:I viaggi di Isabella Andreini (1562-1604)
DTSTART;VALUE=DATE:20251125
DTEND;VALUE=DATE:20251126
DTSTAMP;VALUE=DATE-TIME:20260420T082335Z
UID:1ae1a93e0e8047fab4cae1800b084df3@ficlit.unibo.it
CREATED;VALUE=DATE-TIME:20251121T210801Z
DESCRIPTION:Incontro con Jelena Bakić
LAST-MODIFIED;VALUE=DATE-TIME:20251121T212606Z
URL:https://ficlit.unibo.it/it/eventi/i-viaggi-di-isabella-andreini-1562-1
 604
END:VEVENT
END:VCALENDAR
