BEGIN:VCALENDAR
VERSION:2.0
PRODID:-//Plone.org//NONSGML plone.app.event//EN
X-WR-TIMEZONE:Europe/Rome
BEGIN:VEVENT
SUMMARY:Il cantiere del barocco. Arti e linguaggi a confronto
DTSTART;TZID=Europe/Rome;VALUE=DATE-TIME:20220525T143000
DTEND;TZID=Europe/Rome;VALUE=DATE-TIME:20220525T183000
DTSTAMP;VALUE=DATE-TIME:20260422T095056Z
UID:0889195570354f939805adfa460d5c51@ficlit.unibo.it
CREATED;VALUE=DATE-TIME:20220520T135255Z
DESCRIPTION:Pomeriggio di studi a cura di Sonia Cavicchioli
LAST-MODIFIED;VALUE=DATE-TIME:20220524T101418Z
URL:https://ficlit.unibo.it/it/eventi/il-cantiere-del-barocco-arti-e-lingu
 aggi-a-confronto
END:VEVENT
BEGIN:VTIMEZONE
TZID:Europe/Rome
X-LIC-LOCATION:Europe/Rome
BEGIN:DAYLIGHT
DTSTART;VALUE=DATE-TIME:20220327T030000
TZNAME:CEST
TZOFFSETFROM:+0100
TZOFFSETTO:+0200
END:DAYLIGHT
END:VTIMEZONE
END:VCALENDAR
