BEGIN:VCALENDAR
VERSION:2.0
PRODID:-//Plone.org//NONSGML plone.app.event//EN
X-WR-TIMEZONE:Europe/Rome
BEGIN:VEVENT
SUMMARY:Il mondo animale tra tra Medioevo e Rinascimento. Stratificazioni 
 testuali e figurative
DTSTART;VALUE=DATE:20250415
DTEND;VALUE=DATE:20250513
DTSTAMP;VALUE=DATE-TIME:20260421T233458Z
UID:2662e6fb499f41a68579d07b3fa6366b@ficlit.unibo.it
CREATED;VALUE=DATE-TIME:20250411T145930Z
DESCRIPTION:Ciclo di lezioni sulle distinzioni tra umano e non umano in te
 sti letterari e cicli pittorici fra Tre e Quattrocento. Corso di Dottorato
  in Culture letterarie e filologiche
LAST-MODIFIED;VALUE=DATE-TIME:20250411T150458Z
URL:https://ficlit.unibo.it/it/eventi/il-mondo-animale-tra-tra-medioevo-e-
 rinascimento-stratificazioni-testuali-e-figurative
END:VEVENT
END:VCALENDAR
