BEGIN:VCALENDAR
VERSION:2.0
PRODID:-//Plone.org//NONSGML plone.app.event//EN
X-WR-TIMEZONE:Europe/Rome
BEGIN:VEVENT
SUMMARY:Immaginari alati: Baracca tra miti\, eredità e storia
DTSTART;TZID=Europe/Rome;VALUE=DATE-TIME:20220528T100000
DTEND;TZID=Europe/Rome;VALUE=DATE-TIME:20220528T110000
DTSTAMP;VALUE=DATE-TIME:20260422T075349Z
UID:3091eb89788845fd90aa1862fb593f25@ficlit.unibo.it
CREATED;VALUE=DATE-TIME:20220517T165124Z
DESCRIPTION:Conferenza del prof. Guido Mattia Gallerani dell'Università d
 i Bologna
LAST-MODIFIED;VALUE=DATE-TIME:20220517T170449Z
URL:https://ficlit.unibo.it/it/eventi/immaginari-alati-baracca-tra-miti-er
 edita-e-storia
END:VEVENT
BEGIN:VTIMEZONE
TZID:Europe/Rome
X-LIC-LOCATION:Europe/Rome
BEGIN:DAYLIGHT
DTSTART;VALUE=DATE-TIME:20220327T030000
TZNAME:CEST
TZOFFSETFROM:+0100
TZOFFSETTO:+0200
END:DAYLIGHT
END:VTIMEZONE
END:VCALENDAR
