BEGIN:VCALENDAR
VERSION:2.0
PRODID:-//Plone.org//NONSGML plone.app.event//EN
X-WR-TIMEZONE:Europe/Rome
BEGIN:VEVENT
SUMMARY:In the same boat
DTSTART;VALUE=DATE:20170407
DTEND;VALUE=DATE:20170408
DTSTAMP;VALUE=DATE-TIME:20260422T231047Z
UID:b09052c4327d428085f417dfabccd3bf@ficlit.unibo.it
CREATED;VALUE=DATE-TIME:20170404T064741Z
DESCRIPTION:Proiezione con dibattito del film documentario di Rudy Gnutti
LAST-MODIFIED;VALUE=DATE-TIME:20170404T064840Z
URL:https://ficlit.unibo.it/it/eventi/in-the-same-boat
END:VEVENT
END:VCALENDAR
