BEGIN:VCALENDAR
VERSION:2.0
PRODID:-//Plone.org//NONSGML plone.app.event//EN
X-WR-TIMEZONE:Europe/Rome
BEGIN:VEVENT
SUMMARY:Workshop INCLUDEED "Materials and Methods for Linguistic Integrati
 on of Migrants and Refugees: Publishing\, ICT\, Game-Based Learning"
DTSTART;TZID=Europe/Rome;VALUE=DATE-TIME:20220525T150000
DTEND;TZID=Europe/Rome;VALUE=DATE-TIME:20220527T180000
DTSTAMP;VALUE=DATE-TIME:20260422T075257Z
UID:7b7e332dccd040eb9fc1af06a8129477@ficlit.unibo.it
CREATED;VALUE=DATE-TIME:20220426T130103Z
DESCRIPTION:25-27 maggio 2022
LAST-MODIFIED;VALUE=DATE-TIME:20220426T130707Z
URL:https://ficlit.unibo.it/it/eventi/includeed-materials-and-methods-for-
 linguistic-integration-of-migrants-and-refugees
END:VEVENT
BEGIN:VTIMEZONE
TZID:Europe/Rome
X-LIC-LOCATION:Europe/Rome
BEGIN:DAYLIGHT
DTSTART;VALUE=DATE-TIME:20220327T030000
TZNAME:CEST
TZOFFSETFROM:+0100
TZOFFSETTO:+0200
END:DAYLIGHT
END:VTIMEZONE
END:VCALENDAR
