BEGIN:VCALENDAR
VERSION:2.0
PRODID:-//Plone.org//NONSGML plone.app.event//EN
X-WR-TIMEZONE:Europe/Rome
BEGIN:VEVENT
SUMMARY:Incontro con Guido Catalano
DTSTART;TZID=Europe/Rome;VALUE=DATE-TIME:20170322T090000
DTEND;TZID=Europe/Rome;VALUE=DATE-TIME:20170322T110000
DTSTAMP;VALUE=DATE-TIME:20260422T202810Z
UID:77a47203abdf4f73a1b09a4898c152d5@ficlit.unibo.it
CREATED;VALUE=DATE-TIME:20170316T130408Z
LAST-MODIFIED;VALUE=DATE-TIME:20170316T130429Z
URL:https://ficlit.unibo.it/it/eventi/incontro-con-guido-catalano
END:VEVENT
BEGIN:VTIMEZONE
TZID:Europe/Rome
X-LIC-LOCATION:Europe/Rome
BEGIN:STANDARD
DTSTART;VALUE=DATE-TIME:20161030T020000
TZNAME:CET
TZOFFSETFROM:+0200
TZOFFSETTO:+0100
END:STANDARD
END:VTIMEZONE
END:VCALENDAR
