BEGIN:VCALENDAR
VERSION:2.0
PRODID:-//Plone.org//NONSGML plone.app.event//EN
X-WR-TIMEZONE:Europe/Rome
BEGIN:VEVENT
SUMMARY:Incontro - La parola che cura
DTSTART;VALUE=DATE:20190416
DTEND;VALUE=DATE:20190417
DTSTAMP;VALUE=DATE-TIME:20260420T032319Z
UID:a9202d4e988546b59c24cd175f1521b5@ficlit.unibo.it
CREATED;VALUE=DATE-TIME:20190409T063735Z
DESCRIPTION:I Martedì di San Domenico - Ciclo di incontri: "La parola che
  educa\, le parole che diseducano"
LAST-MODIFIED;VALUE=DATE-TIME:20190409T063945Z
URL:https://ficlit.unibo.it/it/eventi/incontro-la-parola-che-cura
END:VEVENT
END:VCALENDAR
