BEGIN:VCALENDAR
VERSION:2.0
PRODID:-//Plone.org//NONSGML plone.app.event//EN
X-WR-TIMEZONE:Europe/Rome
BEGIN:VEVENT
SUMMARY:Informare e comunicare la prognosi a quattro anni dalla legge 219/
 2017
DTSTART;TZID=Europe/Rome;VALUE=DATE-TIME:20220322T143000
DTEND;TZID=Europe/Rome;VALUE=DATE-TIME:20220322T173000
DTSTAMP;VALUE=DATE-TIME:20260420T032610Z
UID:4a322d6fd6e24d7293188761185ff303@ficlit.unibo.it
CREATED;VALUE=DATE-TIME:20220204T101931Z
DESCRIPTION:Seminario e FAD sincrona
LAST-MODIFIED;VALUE=DATE-TIME:20220204T102417Z
URL:https://ficlit.unibo.it/it/eventi/informare-e-comunicare-la-prognosi-a
 -quattro-anni-dalla-legge-219-2017
END:VEVENT
BEGIN:VTIMEZONE
TZID:Europe/Rome
X-LIC-LOCATION:Europe/Rome
BEGIN:STANDARD
DTSTART;VALUE=DATE-TIME:20211031T020000
TZNAME:CET
TZOFFSETFROM:+0200
TZOFFSETTO:+0100
END:STANDARD
END:VTIMEZONE
END:VCALENDAR
