BEGIN:VCALENDAR
VERSION:2.0
PRODID:-//Plone.org//NONSGML plone.app.event//EN
X-WR-TIMEZONE:Europe/Rome
BEGIN:VEVENT
SUMMARY:Integrazione e disintegrazione sociale: complessità delle dinamic
 he di gruppo negli Eraclidi di Euripide
DTSTART;VALUE=DATE:20250131
DTEND;VALUE=DATE:20250201
DTSTAMP;VALUE=DATE-TIME:20260420T103731Z
UID:b7ca3e72664f473f97ccec9601efc607@ficlit.unibo.it
CREATED;VALUE=DATE-TIME:20250124T101742Z
DESCRIPTION:Seminario di Filologia classica
LAST-MODIFIED;VALUE=DATE-TIME:20250124T102122Z
URL:https://ficlit.unibo.it/it/eventi/integrazione-e-disintegrazione-socia
 le-complessita-delle-dinamiche-di-gruppo-negli-eraclidi-di-euripide
END:VEVENT
END:VCALENDAR
