BEGIN:VCALENDAR
VERSION:2.0
PRODID:-//Plone.org//NONSGML plone.app.event//EN
X-WR-TIMEZONE:Europe/Rome
BEGIN:VEVENT
SUMMARY:Italiano popolare oggi
DTSTART;VALUE=DATE:20251118
DTEND;VALUE=DATE:20251119
DTSTAMP;VALUE=DATE-TIME:20260420T082305Z
UID:b28cfc3d970a47dc8c9044b4b6e24abf@ficlit.unibo.it
CREATED;VALUE=DATE-TIME:20251021T101048Z
DESCRIPTION:Giornata di studi inserita nel ciclo di seminari dottorali Ori
 zzonti della linguistica
LAST-MODIFIED;VALUE=DATE-TIME:20251105T132041Z
URL:https://ficlit.unibo.it/it/eventi/italiano-popolare-oggi
END:VEVENT
END:VCALENDAR
