BEGIN:VCALENDAR
VERSION:2.0
PRODID:-//Plone.org//NONSGML plone.app.event//EN
X-WR-TIMEZONE:Europe/Rome
BEGIN:VEVENT
SUMMARY:L’economia della poetica femminile
DTSTART;TZID=Europe/Rome;VALUE=DATE-TIME:20250508T150000
DTEND;TZID=Europe/Rome;VALUE=DATE-TIME:20250508T170000
DTSTAMP;VALUE=DATE-TIME:20260420T101224Z
UID:d827ef833fe948e08553ebe3dd8e3b97@ficlit.unibo.it
CREATED;VALUE=DATE-TIME:20250110T093136Z
DESCRIPTION:Ciclo di Seminari organizzato nell’ambito del Progetto PRIN2
 022 (PNRR) WInGS – Women Intellectuals in Greek Society
LAST-MODIFIED;VALUE=DATE-TIME:20250318T102043Z
URL:https://ficlit.unibo.it/it/eventi/l-economia-della-poetica-femminile
END:VEVENT
BEGIN:VTIMEZONE
TZID:Europe/Rome
X-LIC-LOCATION:Europe/Rome
BEGIN:DAYLIGHT
DTSTART;VALUE=DATE-TIME:20250330T030000
TZNAME:CEST
TZOFFSETFROM:+0100
TZOFFSETTO:+0200
END:DAYLIGHT
END:VTIMEZONE
END:VCALENDAR
