BEGIN:VCALENDAR
VERSION:2.0
PRODID:-//Plone.org//NONSGML plone.app.event//EN
X-WR-TIMEZONE:Europe/Rome
BEGIN:VEVENT
SUMMARY:L’Emilia-Romagna si racconta
DTSTART;VALUE=DATE:20220409
DTEND;VALUE=DATE:20220620
DTSTAMP;VALUE=DATE-TIME:20260421T232324Z
UID:9136326316204b809a6103027a420d98@ficlit.unibo.it
CREATED;VALUE=DATE-TIME:20220318T121521Z
DESCRIPTION:Laboratorio di scrittura autobiografica a cura di Giulia Molin
 arolo e Wu Ming 2\, coordinato da Filippo Milani
LAST-MODIFIED;VALUE=DATE-TIME:20220322T170042Z
URL:https://ficlit.unibo.it/it/eventi/l-emilia-romagna-si-racconta
END:VEVENT
END:VCALENDAR
