BEGIN:VCALENDAR
VERSION:2.0
PRODID:-//Plone.org//NONSGML plone.app.event//EN
X-WR-TIMEZONE:Europe/Rome
BEGIN:VEVENT
SUMMARY:L'enciclopedismo umanistico tra il cartaceo e il digitale: il caso
  esemplare di Basinio da Parma
DTSTART;VALUE=DATE:20220329
DTEND;VALUE=DATE:20220330
DTSTAMP;VALUE=DATE-TIME:20260422T101455Z
UID:40ca766aaf1b486db4a8ecca305260bd@ficlit.unibo.it
CREATED;VALUE=DATE-TIME:20220315T155416Z
DESCRIPTION:Una giornata di studi dedicata alla figura "enciclopedica" di 
 Basinio da Parma
LAST-MODIFIED;VALUE=DATE-TIME:20220325T080613Z
URL:https://ficlit.unibo.it/it/eventi/l-enciclopedismo-umanistico-tra-il-c
 artaceo-e-il-digitale-il-caso-esemplare-di-basinio-da-parma
END:VEVENT
END:VCALENDAR
