BEGIN:VCALENDAR
VERSION:2.0
PRODID:-//Plone.org//NONSGML plone.app.event//EN
X-WR-TIMEZONE:Europe/Rome
BEGIN:VEVENT
SUMMARY:La Celestina e il corpo delle donne
DTSTART;VALUE=DATE:20250321
DTEND;VALUE=DATE:20250322
DTSTAMP;VALUE=DATE-TIME:20260420T062644Z
UID:9d4a2d2ffc8b466ebf92a02f1d0fabf9@ficlit.unibo.it
CREATED;VALUE=DATE-TIME:20250314T141902Z
DESCRIPTION:Parte del Seminario Internazionale febbraio-marzo 2025 "Voci e
  corpi di donna tra Medioevo e Rinascimento" a cura di Patrizia Caraffi
LAST-MODIFIED;VALUE=DATE-TIME:20250314T142152Z
URL:https://ficlit.unibo.it/it/eventi/la-celestina-e-il-corpo-delle-donne
END:VEVENT
END:VCALENDAR
