BEGIN:VCALENDAR
VERSION:2.0
PRODID:-//Plone.org//NONSGML plone.app.event//EN
X-WR-TIMEZONE:Europe/Rome
BEGIN:VEVENT
SUMMARY:La follia prima e dopo Basaglia
DTSTART;TZID=Europe/Rome;VALUE=DATE-TIME:20190330T150000
DTEND;TZID=Europe/Rome;VALUE=DATE-TIME:20190330T183000
DTSTAMP;VALUE=DATE-TIME:20260420T032227Z
UID:5b011983deb74efb8ff6482f97dd3214@ficlit.unibo.it
CREATED;VALUE=DATE-TIME:20190325T125924Z
DESCRIPTION:Centro studi di Medical Humanities (CMH) del Dipartimento di F
 ilologia Classica e Italianistica - CIRSFID (Centro Interdipartimentale di
  Ricerca in Storia del Diritto\, Filosofia e Sociologia del Diritto e Info
 rmatica Giuridica dell’Università di Bologna “Guido Fassò - Augusto 
 Gaudenzi”)
LAST-MODIFIED;VALUE=DATE-TIME:20190325T130726Z
URL:https://ficlit.unibo.it/it/eventi/la-follia-prima-e-dopo-basaglia
END:VEVENT
BEGIN:VTIMEZONE
TZID:Europe/Rome
X-LIC-LOCATION:Europe/Rome
BEGIN:STANDARD
DTSTART;VALUE=DATE-TIME:20181028T020000
TZNAME:CET
TZOFFSETFROM:+0200
TZOFFSETTO:+0100
END:STANDARD
END:VTIMEZONE
END:VCALENDAR
