BEGIN:VCALENDAR
VERSION:2.0
PRODID:-//Plone.org//NONSGML plone.app.event//EN
X-WR-TIMEZONE:Europe/Rome
BEGIN:VEVENT
SUMMARY:La retorica e le idee
DTSTART;VALUE=DATE:20220509
DTEND;VALUE=DATE:20220511
DTSTAMP;VALUE=DATE-TIME:20260422T023758Z
UID:39aec6c8f0ff4b718bca2f47e0cdc25c@ficlit.unibo.it
CREATED;VALUE=DATE-TIME:20220429T133307Z
DESCRIPTION:Per Andrea Battistini\, italianista | Convegno internazionale 
 di studio e ricordo
LAST-MODIFIED;VALUE=DATE-TIME:20220429T134446Z
URL:https://ficlit.unibo.it/it/eventi/la-retorica-e-le-idee
END:VEVENT
END:VCALENDAR
