BEGIN:VCALENDAR
VERSION:2.0
PRODID:-//Plone.org//NONSGML plone.app.event//EN
X-WR-TIMEZONE:Europe/Rome
BEGIN:VEVENT
SUMMARY:La ricerca di articoli nelle banche dati
DTSTART;TZID=Europe/Rome;VALUE=DATE-TIME:20220601T120000
DTEND;TZID=Europe/Rome;VALUE=DATE-TIME:20220601T130000
DTSTAMP;VALUE=DATE-TIME:20260422T184538Z
UID:aeb0363f3a3b4791bf96fa70cee86d79@ficlit.unibo.it
CREATED;VALUE=DATE-TIME:20220503T153004Z
DESCRIPTION:Bibliolab - Secondo appuntamento del ciclo
LAST-MODIFIED;VALUE=DATE-TIME:20220503T153022Z
URL:https://ficlit.unibo.it/it/eventi/la-ricerca-di-articoli-nelle-banche-
 dati
END:VEVENT
BEGIN:VTIMEZONE
TZID:Europe/Rome
X-LIC-LOCATION:Europe/Rome
BEGIN:DAYLIGHT
DTSTART;VALUE=DATE-TIME:20220327T030000
TZNAME:CEST
TZOFFSETFROM:+0100
TZOFFSETTO:+0200
END:DAYLIGHT
END:VTIMEZONE
END:VCALENDAR
