BEGIN:VCALENDAR
VERSION:2.0
PRODID:-//Plone.org//NONSGML plone.app.event//EN
X-WR-TIMEZONE:Europe/Rome
BEGIN:VEVENT
SUMMARY:Laboratorio di traduzione dal latino presso il Liceo Muratori
DTSTART;VALUE=DATE:20200122
DTEND;VALUE=DATE:20200123
DTSTAMP;VALUE=DATE-TIME:20260419T190040Z
UID:1584352fb51d47179eb514bef4a3241c@ficlit.unibo.it
CREATED;VALUE=DATE-TIME:20220125T102616Z
DESCRIPTION:Liceo Muratori - S. Carlo
LAST-MODIFIED;VALUE=DATE-TIME:20220125T102649Z
URL:https://ficlit.unibo.it/it/eventi/laboratorio-di-traduzione-dal-latino
 -presso-il-liceo-muratori-1
END:VEVENT
END:VCALENDAR
