BEGIN:VCALENDAR
VERSION:2.0
PRODID:-//Plone.org//NONSGML plone.app.event//EN
X-WR-TIMEZONE:Europe/Rome
BEGIN:VEVENT
SUMMARY:Laboratorio EPM-ADLab. La digitalizzazione di manoscritti romanzi 
 medievali
DTSTART;VALUE=DATE:20250401
DTEND;VALUE=DATE:20250416
DTSTAMP;VALUE=DATE-TIME:20260422T122133Z
UID:a36cccd8cc7b4198b0bdb25c3f88f047@ficlit.unibo.it
CREATED;VALUE=DATE-TIME:20250304T064030Z
DESCRIPTION:Seminario di Filologia romanza "WiP. Work in Progress" a cura 
 di Niccolò Gensini
LAST-MODIFIED;VALUE=DATE-TIME:20250317T090418Z
URL:https://ficlit.unibo.it/it/eventi/laboratorio-epm-adlab-la-digitalizza
 zione-di-manoscritti-romanzi-medievali
END:VEVENT
END:VCALENDAR
