BEGIN:VCALENDAR
VERSION:2.0
PRODID:-//Plone.org//NONSGML plone.app.event//EN
X-WR-TIMEZONE:Europe/Rome
BEGIN:VEVENT
SUMMARY:L'Antigone di Sofocle: dialogo tra C. Longhi e R. Tosi
DTSTART;TZID=Europe/Rome;VALUE=DATE-TIME:20180328T151500
DTEND;TZID=Europe/Rome;VALUE=DATE-TIME:20180328T170000
DTSTAMP;VALUE=DATE-TIME:20260425T185648Z
UID:1beaa57691ed4271b041ae5e3979c973@ficlit.unibo.it
CREATED;VALUE=DATE-TIME:20180322T134054Z
LAST-MODIFIED;VALUE=DATE-TIME:20180322T134104Z
URL:https://ficlit.unibo.it/it/eventi/lantigone-di-sofocle-dialogo-tra-c.-
 longhi-e-r.-tosi-1
END:VEVENT
BEGIN:VTIMEZONE
TZID:Europe/Rome
X-LIC-LOCATION:Europe/Rome
BEGIN:DAYLIGHT
DTSTART;VALUE=DATE-TIME:20180325T030000
TZNAME:CEST
TZOFFSETFROM:+0100
TZOFFSETTO:+0200
END:DAYLIGHT
END:VTIMEZONE
END:VCALENDAR
