BEGIN:VCALENDAR
VERSION:2.0
PRODID:-//Plone.org//NONSGML plone.app.event//EN
X-WR-TIMEZONE:Europe/Rome
BEGIN:VEVENT
SUMMARY:Le fonti documentarie per lo studio di oralità\, lettura\, materi
 alità e composizione testuale nell’antichità.
DTSTART;TZID=Europe/Rome;VALUE=DATE-TIME:20211216T150000
DTEND;TZID=Europe/Rome;VALUE=DATE-TIME:20211216T170000
DTSTAMP;VALUE=DATE-TIME:20260422T122132Z
UID:806c0251cfd645fcba1819106f3b79dd@ficlit.unibo.it
CREATED;VALUE=DATE-TIME:20211123T093954Z
DESCRIPTION:Secondo incontro del ciclo di seminari online “Ancient every
 day life and languages” (Giuseppina di Bartolo\, Università di Colonia)
LAST-MODIFIED;VALUE=DATE-TIME:20211123T094152Z
URL:https://ficlit.unibo.it/it/eventi/le-fonti-documentarie-per-lo-studio-
 di-oralita-lettura-materialita-e-composizione-testuale-nell-antichita
END:VEVENT
BEGIN:VTIMEZONE
TZID:Europe/Rome
X-LIC-LOCATION:Europe/Rome
BEGIN:STANDARD
DTSTART;VALUE=DATE-TIME:20211031T020000
TZNAME:CET
TZOFFSETFROM:+0200
TZOFFSETTO:+0100
END:STANDARD
END:VTIMEZONE
END:VCALENDAR
