BEGIN:VCALENDAR
VERSION:2.0
PRODID:-//Plone.org//NONSGML plone.app.event//EN
X-WR-TIMEZONE:Europe/Rome
BEGIN:VEVENT
SUMMARY:Le lingue impossibili: da Dante a ChatGPT passando da Cartesio
DTSTART;VALUE=DATE:20250630
DTEND;VALUE=DATE:20250702
DTSTAMP;VALUE=DATE-TIME:20260420T100932Z
UID:46a278876d404298ba95e48067f8938f@ficlit.unibo.it
CREATED;VALUE=DATE-TIME:20250606T102755Z
DESCRIPTION:Ciclo di lezioni del Prof. Andrea Moro
LAST-MODIFIED;VALUE=DATE-TIME:20250606T161439Z
URL:https://ficlit.unibo.it/it/eventi/le-lingue-impossibili-da-dante-a-cha
 tgpt-passando-da-cartesio
END:VEVENT
END:VCALENDAR
