BEGIN:VCALENDAR
VERSION:2.0
PRODID:-//Plone.org//NONSGML plone.app.event//EN
X-WR-TIMEZONE:Europe/Rome
BEGIN:VEVENT
SUMMARY:LE RADICI DELLA SCRITTURA - Origine\, sviluppi e metodologie delle
  espressioni scrittorie
DTSTART;TZID=Europe/Rome;VALUE=DATE-TIME:20220505T130000
DTEND;TZID=Europe/Rome;VALUE=DATE-TIME:20220505T140000
DTSTAMP;VALUE=DATE-TIME:20260422T101435Z
UID:d523e2fddabc4fbbb2a9859e5137f1d6@ficlit.unibo.it
CREATED;VALUE=DATE-TIME:20220429T133525Z
DESCRIPTION:Terzo incontro
LAST-MODIFIED;VALUE=DATE-TIME:20220429T134018Z
URL:https://ficlit.unibo.it/it/eventi/le-radici-della-scrittura-origine-sv
 iluppi-e-metodologie-delle-espressioni-scrittorie-1
END:VEVENT
BEGIN:VTIMEZONE
TZID:Europe/Rome
X-LIC-LOCATION:Europe/Rome
BEGIN:DAYLIGHT
DTSTART;VALUE=DATE-TIME:20220327T030000
TZNAME:CEST
TZOFFSETFROM:+0100
TZOFFSETTO:+0200
END:DAYLIGHT
END:VTIMEZONE
END:VCALENDAR
