BEGIN:VCALENDAR
VERSION:2.0
PRODID:-//Plone.org//NONSGML plone.app.event//EN
X-WR-TIMEZONE:Europe/Rome
BEGIN:VEVENT
SUMMARY:LE RADICI DELLA SCRITTURA - Origine\, sviluppi e metodologie delle
  espressioni scrittorie
DTSTART;VALUE=DATE:20220223
DTEND;VALUE=DATE:20220325
DTSTAMP;VALUE=DATE-TIME:20260422T101445Z
UID:39020d7152af4b798aa6c093dd976ae5@ficlit.unibo.it
CREATED;VALUE=DATE-TIME:20220223T121801Z
DESCRIPTION:Call per partecipare al ciclo di seminari
LAST-MODIFIED;VALUE=DATE-TIME:20220223T122202Z
URL:https://ficlit.unibo.it/it/eventi/le-radici-della-scrittura-origine-sv
 iluppi-e-metodologie-delle-espressioni-scrittorie
END:VEVENT
END:VCALENDAR
