BEGIN:VCALENDAR
VERSION:2.0
PRODID:-//Plone.org//NONSGML plone.app.event//EN
X-WR-TIMEZONE:Europe/Rome
BEGIN:VEVENT
SUMMARY:LE RADICI DELLA SCRITTURA - Scritture scartate\, supporti riutiliz
 zati
DTSTART;TZID=Europe/Rome;VALUE=DATE-TIME:20220621T130000
DTEND;TZID=Europe/Rome;VALUE=DATE-TIME:20220621T140000
DTSTAMP;VALUE=DATE-TIME:20260422T011502Z
UID:9353752f593d46e09827444e49490da9@ficlit.unibo.it
CREATED;VALUE=DATE-TIME:20220617T085039Z
DESCRIPTION:Settimo appuntamento
LAST-MODIFIED;VALUE=DATE-TIME:20220617T085946Z
URL:https://ficlit.unibo.it/it/eventi/le-radici-della-scrittura-scritture-
 scartate-supporti-riutilizzati
END:VEVENT
BEGIN:VTIMEZONE
TZID:Europe/Rome
X-LIC-LOCATION:Europe/Rome
BEGIN:DAYLIGHT
DTSTART;VALUE=DATE-TIME:20220327T030000
TZNAME:CEST
TZOFFSETFROM:+0100
TZOFFSETTO:+0200
END:DAYLIGHT
END:VTIMEZONE
END:VCALENDAR
