BEGIN:VCALENDAR
VERSION:2.0
PRODID:-//Plone.org//NONSGML plone.app.event//EN
X-WR-TIMEZONE:Europe/Rome
BEGIN:VEVENT
SUMMARY:Leggo Manzoni/Wo-Dú Manzoni
DTSTART;TZID=Europe/Rome;VALUE=DATE-TIME:20251204T110000
DTEND;TZID=Europe/Rome;VALUE=DATE-TIME:20251205T190000
DTSTAMP;VALUE=DATE-TIME:20260419T171358Z
UID:36dc47ce90894bd1848246d1caa458d8@ficlit.unibo.it
CREATED;VALUE=DATE-TIME:20251023T085442Z
DESCRIPTION:Tre incontri di Digital Humanities in occasione della visita d
 ei colleghi dell'Università di Pechino
LAST-MODIFIED;VALUE=DATE-TIME:20251125T160345Z
URL:https://ficlit.unibo.it/it/eventi/leggo-manzoni-wo-du-manzoni
END:VEVENT
BEGIN:VTIMEZONE
TZID:Europe/Rome
X-LIC-LOCATION:Europe/Rome
BEGIN:STANDARD
DTSTART;VALUE=DATE-TIME:20251026T020000
TZNAME:CET
TZOFFSETFROM:+0200
TZOFFSETTO:+0100
END:STANDARD
END:VTIMEZONE
END:VCALENDAR
