BEGIN:VCALENDAR
VERSION:2.0
PRODID:-//Plone.org//NONSGML plone.app.event//EN
X-WR-TIMEZONE:Europe/Rome
BEGIN:VEVENT
SUMMARY:Letteratura e Palazzo
DTSTART;VALUE=DATE:20220512
DTEND;VALUE=DATE:20220527
DTSTAMP;VALUE=DATE-TIME:20260422T124603Z
UID:051d3d8972614cca97f62374d89dc6ae@ficlit.unibo.it
CREATED;VALUE=DATE-TIME:20220407T155312Z
DESCRIPTION:Dialoghi su libri e potere \nI ciclo
LAST-MODIFIED;VALUE=DATE-TIME:20220426T125624Z
URL:https://ficlit.unibo.it/it/eventi/letteratura-e-palazzo
END:VEVENT
END:VCALENDAR
