BEGIN:VCALENDAR
VERSION:2.0
PRODID:-//Plone.org//NONSGML plone.app.event//EN
X-WR-TIMEZONE:Europe/Rome
BEGIN:VEVENT
SUMMARY:Letteratura e sistemi editoriali nel Novecento
DTSTART;TZID=Europe/Rome;VALUE=DATE-TIME:20170216T180000
DTEND;TZID=Europe/Rome;VALUE=DATE-TIME:20170504T180000
DTSTAMP;VALUE=DATE-TIME:20260422T185205Z
UID:2353061245fd49ea9742bd39dbb008dd@ficlit.unibo.it
CREATED;VALUE=DATE-TIME:20170201T133355Z
DESCRIPTION:testi\, diplomazia culturale\, nuovi mestieri\n
LAST-MODIFIED;VALUE=DATE-TIME:20170201T133716Z
URL:https://ficlit.unibo.it/it/eventi/letteratura-e-sistemi-editoriali-nel
 -novecento
END:VEVENT
BEGIN:VTIMEZONE
TZID:Europe/Rome
X-LIC-LOCATION:Europe/Rome
BEGIN:STANDARD
DTSTART;VALUE=DATE-TIME:20161030T020000
TZNAME:CET
TZOFFSETFROM:+0200
TZOFFSETTO:+0100
END:STANDARD
BEGIN:DAYLIGHT
DTSTART;VALUE=DATE-TIME:20170326T030000
TZNAME:CEST
TZOFFSETFROM:+0100
TZOFFSETTO:+0200
END:DAYLIGHT
END:VTIMEZONE
END:VCALENDAR
