BEGIN:VCALENDAR
VERSION:2.0
PRODID:-//Plone.org//NONSGML plone.app.event//EN
X-WR-TIMEZONE:Europe/Rome
BEGIN:VEVENT
SUMMARY:Lezione del prof. Gianfranco CRUPI (La Sapienza - Università di R
 oma)
DTSTART;TZID=Europe/Rome;VALUE=DATE-TIME:20191121T150000
DTEND;TZID=Europe/Rome;VALUE=DATE-TIME:20191121T170000
DTSTAMP;VALUE=DATE-TIME:20260419T171558Z
UID:7719754ee7904e6eb01e92b333764b24@ficlit.unibo.it
CREATED;VALUE=DATE-TIME:20191119T083523Z
DESCRIPTION:Dai libri animati ai testi senza fine
LAST-MODIFIED;VALUE=DATE-TIME:20191119T083548Z
URL:https://ficlit.unibo.it/it/eventi/lezione-del-prof.-gianfranco-crupi-l
 a-sapienza-universita-di-roma
END:VEVENT
BEGIN:VTIMEZONE
TZID:Europe/Rome
X-LIC-LOCATION:Europe/Rome
BEGIN:STANDARD
DTSTART;VALUE=DATE-TIME:20191027T020000
TZNAME:CET
TZOFFSETFROM:+0200
TZOFFSETTO:+0100
END:STANDARD
END:VTIMEZONE
END:VCALENDAR
