BEGIN:VCALENDAR
VERSION:2.0
PRODID:-//Plone.org//NONSGML plone.app.event//EN
X-WR-TIMEZONE:Europe/Rome
BEGIN:VEVENT
SUMMARY:Lezione del Prof. Gianpiero Rosati (Pisa\, SNS): Narciso e il narc
 isismo\, da Ovidio al postmoderno
DTSTART;TZID=Europe/Rome;VALUE=DATE-TIME:20200421T150000
DTEND;TZID=Europe/Rome;VALUE=DATE-TIME:20200421T170000
DTSTAMP;VALUE=DATE-TIME:20260419T202116Z
UID:8ca42bc446144610ac0ca2582e1a3d38@ficlit.unibo.it
CREATED;VALUE=DATE-TIME:20200113T093901Z
LAST-MODIFIED;VALUE=DATE-TIME:20200113T093946Z
URL:https://ficlit.unibo.it/it/eventi/lezione-del-prof.-gianpiero-rosati-p
 isa-sns-narciso-e-il-narcisismo-da-ovidio-al-postmoderno
END:VEVENT
BEGIN:VTIMEZONE
TZID:Europe/Rome
X-LIC-LOCATION:Europe/Rome
BEGIN:DAYLIGHT
DTSTART;VALUE=DATE-TIME:20200329T030000
TZNAME:CEST
TZOFFSETFROM:+0100
TZOFFSETTO:+0200
END:DAYLIGHT
END:VTIMEZONE
END:VCALENDAR
