BEGIN:VCALENDAR
VERSION:2.0
PRODID:-//Plone.org//NONSGML plone.app.event//EN
X-WR-TIMEZONE:Europe/Rome
BEGIN:VEVENT
SUMMARY:Lezione del Prof. Giorgio Ieranò (Trento): Dioniso al tempo del p
 op\, da Eric Dodds a Jim Morrison
DTSTART;TZID=Europe/Rome;VALUE=DATE-TIME:20200401T150000
DTEND;TZID=Europe/Rome;VALUE=DATE-TIME:20200401T170000
DTSTAMP;VALUE=DATE-TIME:20260419T204316Z
UID:fc169db5c1c4457496933145447a0d03@ficlit.unibo.it
CREATED;VALUE=DATE-TIME:20200113T093730Z
LAST-MODIFIED;VALUE=DATE-TIME:20200113T093753Z
URL:https://ficlit.unibo.it/it/eventi/lezione-del-prof.-giorgio-ierano-tre
 nto-dioniso-al-tempo-del-pop-da-eric-dodds-a-jim-morrison
END:VEVENT
BEGIN:VTIMEZONE
TZID:Europe/Rome
X-LIC-LOCATION:Europe/Rome
BEGIN:DAYLIGHT
DTSTART;VALUE=DATE-TIME:20200329T030000
TZNAME:CEST
TZOFFSETFROM:+0100
TZOFFSETTO:+0200
END:DAYLIGHT
END:VTIMEZONE
END:VCALENDAR
