BEGIN:VCALENDAR
VERSION:2.0
PRODID:-//Plone.org//NONSGML plone.app.event//EN
X-WR-TIMEZONE:Europe/Rome
BEGIN:VEVENT
SUMMARY:Lezione del Prof. Giuseppe Ucciardello (Messina): Problemi di trad
 izione indiretta di oratori attici
DTSTART;TZID=Europe/Rome;VALUE=DATE-TIME:20200206T150000
DTEND;TZID=Europe/Rome;VALUE=DATE-TIME:20200206T170000
DTSTAMP;VALUE=DATE-TIME:20260420T010908Z
UID:26d0df93942c40c19776efac9cab9e08@ficlit.unibo.it
CREATED;VALUE=DATE-TIME:20200113T084014Z
LAST-MODIFIED;VALUE=DATE-TIME:20200113T084858Z
URL:https://ficlit.unibo.it/it/eventi/lezione-del-prof.-giuseppe-ucciardel
 lo-messina-problemi-di-tradizione-indiretta-di-oratori-attici
END:VEVENT
BEGIN:VTIMEZONE
TZID:Europe/Rome
X-LIC-LOCATION:Europe/Rome
BEGIN:STANDARD
DTSTART;VALUE=DATE-TIME:20191027T020000
TZNAME:CET
TZOFFSETFROM:+0200
TZOFFSETTO:+0100
END:STANDARD
END:VTIMEZONE
END:VCALENDAR
