BEGIN:VCALENDAR
VERSION:2.0
PRODID:-//Plone.org//NONSGML plone.app.event//EN
X-WR-TIMEZONE:Europe/Rome
BEGIN:VEVENT
SUMMARY:Lezione del Prof. Lucio Del Corso (Cassino) e della Prof.ssa Laura
  Lulli (L’Aquila): Filologia del frammento e testi papiracei. Riflession
 i (metodologiche e non) su materiali vecchi e nuovi
DTSTART;TZID=Europe/Rome;VALUE=DATE-TIME:20200309T150000
DTEND;TZID=Europe/Rome;VALUE=DATE-TIME:20200309T170000
DTSTAMP;VALUE=DATE-TIME:20260419T190210Z
UID:057115a9ec8649488fbb31d021642604@ficlit.unibo.it
CREATED;VALUE=DATE-TIME:20200113T090002Z
LAST-MODIFIED;VALUE=DATE-TIME:20200113T090015Z
URL:https://ficlit.unibo.it/it/eventi/lezione-del-prof.-lucio-del-corso-ca
 ssino-e-della-prof.ssa-laura-lulli-l2019aquila-filologia-del-frammento-e-t
 esti-papiracei.-riflessioni-metodologiche-e-non-su-materiali-vecchi-e-nuov
 i
END:VEVENT
BEGIN:VTIMEZONE
TZID:Europe/Rome
X-LIC-LOCATION:Europe/Rome
BEGIN:STANDARD
DTSTART;VALUE=DATE-TIME:20191027T020000
TZNAME:CET
TZOFFSETFROM:+0200
TZOFFSETTO:+0100
END:STANDARD
END:VTIMEZONE
END:VCALENDAR
