BEGIN:VCALENDAR
VERSION:2.0
PRODID:-//Plone.org//NONSGML plone.app.event//EN
X-WR-TIMEZONE:Europe/Rome
BEGIN:VEVENT
SUMMARY:Lezione del Prof. Massimo Magnani (Parma): Euripide\, Medea: tradi
 zione manoscritta e interpolazioni
DTSTART;TZID=Europe/Rome;VALUE=DATE-TIME:20200221T150000
DTEND;TZID=Europe/Rome;VALUE=DATE-TIME:20200221T170000
DTSTAMP;VALUE=DATE-TIME:20260419T182618Z
UID:c095363842b0456785ad27dfefcf424c@ficlit.unibo.it
CREATED;VALUE=DATE-TIME:20200113T085025Z
LAST-MODIFIED;VALUE=DATE-TIME:20200113T085036Z
URL:https://ficlit.unibo.it/it/eventi/lezione-del-prof.-massimo-magnani-pa
 rma-euripide-medea-tradizione-manoscritta-e-interpolazioni
END:VEVENT
BEGIN:VTIMEZONE
TZID:Europe/Rome
X-LIC-LOCATION:Europe/Rome
BEGIN:STANDARD
DTSTART;VALUE=DATE-TIME:20191027T020000
TZNAME:CET
TZOFFSETFROM:+0200
TZOFFSETTO:+0100
END:STANDARD
END:VTIMEZONE
END:VCALENDAR
