BEGIN:VCALENDAR
VERSION:2.0
PRODID:-//Plone.org//NONSGML plone.app.event//EN
X-WR-TIMEZONE:Europe/Rome
BEGIN:VEVENT
SUMMARY:Lezione del Prof. Tommaso Braccini (Siena): Anabioseis. I “petit
 s Grecs” e le rinascite del mito
DTSTART;TZID=Europe/Rome;VALUE=DATE-TIME:20200227T150000
DTEND;TZID=Europe/Rome;VALUE=DATE-TIME:20200227T170000
DTSTAMP;VALUE=DATE-TIME:20260419T202116Z
UID:722264f791f440378122fea4ea6be0cb@ficlit.unibo.it
CREATED;VALUE=DATE-TIME:20200113T085749Z
DESCRIPTION:(ciclo “Idem et alius. Cultura classica e identità europea:
  lo sguardo degli altri”\, Centro Studi “La permanenza del Classico”
 \, Istituto di Studi Avanzati)
LAST-MODIFIED;VALUE=DATE-TIME:20200113T085758Z
URL:https://ficlit.unibo.it/it/eventi/lezione-del-prof.-tommaso-braccini-s
 iena-anabioseis.-i-201cpetits-grecs201d-e-le-rinascite-del-mito
END:VEVENT
BEGIN:VTIMEZONE
TZID:Europe/Rome
X-LIC-LOCATION:Europe/Rome
BEGIN:STANDARD
DTSTART;VALUE=DATE-TIME:20191027T020000
TZNAME:CET
TZOFFSETFROM:+0200
TZOFFSETTO:+0100
END:STANDARD
END:VTIMEZONE
END:VCALENDAR
