BEGIN:VCALENDAR
VERSION:2.0
PRODID:-//Plone.org//NONSGML plone.app.event//EN
X-WR-TIMEZONE:Europe/Rome
BEGIN:VEVENT
SUMMARY:Lezione della Prof.ssa Elisa Romano (Pavia) - Giugurta postcolonia
 le: fortuna di un personaggio nel Maghreb moderno e contemporaneo
DTSTART;TZID=Europe/Rome;VALUE=DATE-TIME:20200312T150000
DTEND;TZID=Europe/Rome;VALUE=DATE-TIME:20200312T170000
DTSTAMP;VALUE=DATE-TIME:20260419T190143Z
UID:76662735643c446fbf67d5f18c77a647@ficlit.unibo.it
CREATED;VALUE=DATE-TIME:20200113T090356Z
DESCRIPTION:(ciclo “Idem et alius. Cultura classica e identità europea:
  lo sguardo degli altri”\, Centro Studi “La permanenza del Classico”
 \, Istituto di Studi Avanzati)
LAST-MODIFIED;VALUE=DATE-TIME:20200113T090411Z
URL:https://ficlit.unibo.it/it/eventi/lezione-della-prof.ssa-elisa-romano-
 pavia-giugurta-postcoloniale-fortuna-di-un-personaggio-nel-maghreb-moderno
 -e-contemporaneo
END:VEVENT
BEGIN:VTIMEZONE
TZID:Europe/Rome
X-LIC-LOCATION:Europe/Rome
BEGIN:STANDARD
DTSTART;VALUE=DATE-TIME:20191027T020000
TZNAME:CET
TZOFFSETFROM:+0200
TZOFFSETTO:+0100
END:STANDARD
END:VTIMEZONE
END:VCALENDAR
