BEGIN:VCALENDAR
VERSION:2.0
PRODID:-//Plone.org//NONSGML plone.app.event//EN
X-WR-TIMEZONE:Europe/Rome
BEGIN:VEVENT
SUMMARY:Lezione di A. Bonandini
DTSTART;TZID=Europe/Rome;VALUE=DATE-TIME:20170228T171500
DTEND;TZID=Europe/Rome;VALUE=DATE-TIME:20170228T190000
DTSTAMP;VALUE=DATE-TIME:20260423T013614Z
UID:c967cd1f353945828b608f5061263e78@ficlit.unibo.it
CREATED;VALUE=DATE-TIME:20170111T151155Z
LAST-MODIFIED;VALUE=DATE-TIME:20170214T140424Z
URL:https://ficlit.unibo.it/it/eventi/lezione-di-a.-bonandini
END:VEVENT
BEGIN:VTIMEZONE
TZID:Europe/Rome
X-LIC-LOCATION:Europe/Rome
BEGIN:STANDARD
DTSTART;VALUE=DATE-TIME:20161030T020000
TZNAME:CET
TZOFFSETFROM:+0200
TZOFFSETTO:+0100
END:STANDARD
END:VTIMEZONE
END:VCALENDAR
