BEGIN:VCALENDAR
VERSION:2.0
PRODID:-//Plone.org//NONSGML plone.app.event//EN
X-WR-TIMEZONE:Europe/Rome
BEGIN:VEVENT
SUMMARY:Lezione di Alessio Torino: «Propter patriam\, propter patrem». D
 iscese agli Inferi\, e risalite
DTSTART;TZID=Europe/Rome;VALUE=DATE-TIME:20241213T150000
DTEND;TZID=Europe/Rome;VALUE=DATE-TIME:20241213T170000
DTSTAMP;VALUE=DATE-TIME:20260420T171447Z
UID:a34a8f1aef774d73ad588bfee46ec342@ficlit.unibo.it
CREATED;VALUE=DATE-TIME:20241013T210801Z
DESCRIPTION:Ciclo di conferenze e seminari “FLCB” 2024/2025
LAST-MODIFIED;VALUE=DATE-TIME:20241013T210821Z
URL:https://ficlit.unibo.it/it/eventi/lezione-di-alessio-torino-propter-pa
 triam-propter-patrem-discese-agli-inferi-e-risalite
END:VEVENT
BEGIN:VTIMEZONE
TZID:Europe/Rome
X-LIC-LOCATION:Europe/Rome
BEGIN:STANDARD
DTSTART;VALUE=DATE-TIME:20241027T020000
TZNAME:CET
TZOFFSETFROM:+0200
TZOFFSETTO:+0100
END:STANDARD
END:VTIMEZONE
END:VCALENDAR
