BEGIN:VCALENDAR
VERSION:2.0
PRODID:-//Plone.org//NONSGML plone.app.event//EN
X-WR-TIMEZONE:Europe/Rome
BEGIN:VEVENT
SUMMARY:Lezione di E. Iakovou
DTSTART;TZID=Europe/Rome;VALUE=DATE-TIME:20180323T111500
DTEND;TZID=Europe/Rome;VALUE=DATE-TIME:20180323T130000
DTSTAMP;VALUE=DATE-TIME:20260424T131800Z
UID:1f6ffd70c191469cbf801ae8b41aaafd@ficlit.unibo.it
CREATED;VALUE=DATE-TIME:20171026T124852Z
LAST-MODIFIED;VALUE=DATE-TIME:20171128T091928Z
URL:https://ficlit.unibo.it/it/eventi/lezione-di-e.-iakovou
END:VEVENT
BEGIN:VTIMEZONE
TZID:Europe/Rome
X-LIC-LOCATION:Europe/Rome
BEGIN:STANDARD
DTSTART;VALUE=DATE-TIME:20171029T020000
TZNAME:CET
TZOFFSETFROM:+0200
TZOFFSETTO:+0100
END:STANDARD
END:VTIMEZONE
END:VCALENDAR
